BEGIN:VCALENDAR
VERSION:2.0
PRODID:-//North Bethesda Rotary Club - ECPv6.5.0.1//NONSGML v1.0//EN
CALSCALE:GREGORIAN
METHOD:PUBLISH
X-WR-CALNAME:North Bethesda Rotary Club
X-ORIGINAL-URL:https://nbrotary.org
X-WR-CALDESC:Events for North Bethesda Rotary Club
REFRESH-INTERVAL;VALUE=DURATION:PT1H
X-Robots-Tag:noindex
X-PUBLISHED-TTL:PT1H
BEGIN:VTIMEZONE
TZID:America/New_York
BEGIN:DAYLIGHT
TZOFFSETFROM:-0500
TZOFFSETTO:-0400
TZNAME:EDT
DTSTART:20240310T070000
END:DAYLIGHT
BEGIN:STANDARD
TZOFFSETFROM:-0400
TZOFFSETTO:-0500
TZNAME:EST
DTSTART:20241103T060000
END:STANDARD
END:VTIMEZONE
BEGIN:VEVENT
DTSTART;TZID=America/New_York:20241004T080000
DTEND;TZID=America/New_York:20241004T170000
DTSTAMP:20260420T153813
CREATED:20240923T092829Z
LAST-MODIFIED:20241002T090547Z
UID:9121-1728028800-1728061200@nbrotary.org
SUMMARY:Becoming a Professional Performer and Teacher
DESCRIPTION:Chloe Ellen Stewart 
URL:https://nbrotary.org/event/tba-3/
END:VEVENT
BEGIN:VEVENT
DTSTART;TZID=America/New_York:20241011T080000
DTEND;TZID=America/New_York:20241011T170000
DTSTAMP:20260420T153813
CREATED:20240923T092855Z
LAST-MODIFIED:20240923T092855Z
UID:9123-1728633600-1728666000@nbrotary.org
SUMMARY:Comedy as a Second Language
DESCRIPTION:Anna Tirat-Gefen 
URL:https://nbrotary.org/event/comedy-as-a-second-language/
END:VEVENT
BEGIN:VEVENT
DTSTART;TZID=America/New_York:20241018T080000
DTEND;TZID=America/New_York:20241018T170000
DTSTAMP:20260420T153813
CREATED:20241014T092817Z
LAST-MODIFIED:20241014T092925Z
UID:9147-1729238400-1729270800@nbrotary.org
SUMMARY:Connecting People to Places
DESCRIPTION:Marina Khoury
URL:https://nbrotary.org/event/connecting-people-to-places-new-urbanism-kentlands-and-designing-thriving-places/
END:VEVENT
END:VCALENDAR