BEGIN:VCALENDAR
VERSION:2.0
PRODID:-//North Bethesda Rotary Club - ECPv6.5.0.1//NONSGML v1.0//EN
CALSCALE:GREGORIAN
METHOD:PUBLISH
X-WR-CALNAME:North Bethesda Rotary Club
X-ORIGINAL-URL:https://nbrotary.org
X-WR-CALDESC:Events for North Bethesda Rotary Club
REFRESH-INTERVAL;VALUE=DURATION:PT1H
X-Robots-Tag:noindex
X-PUBLISHED-TTL:PT1H
BEGIN:VTIMEZONE
TZID:America/New_York
BEGIN:DAYLIGHT
TZOFFSETFROM:-0500
TZOFFSETTO:-0400
TZNAME:EDT
DTSTART:20240310T070000
END:DAYLIGHT
BEGIN:STANDARD
TZOFFSETFROM:-0400
TZOFFSETTO:-0500
TZNAME:EST
DTSTART:20241103T060000
END:STANDARD
END:VTIMEZONE
BEGIN:VEVENT
DTSTART;TZID=America/New_York:20240719T080000
DTEND;TZID=America/New_York:20240719T170000
DTSTAMP:20260420T020751
CREATED:20240709T094018Z
LAST-MODIFIED:20240710T124712Z
UID:9033-1721376000-1721408400@nbrotary.org
SUMMARY:Classification Talk
DESCRIPTION:Stephen Vaccarezza
URL:https://nbrotary.org/event/tba/
END:VEVENT
BEGIN:VEVENT
DTSTART;TZID=America/New_York:20240712T080000
DTEND;TZID=America/New_York:20240712T170000
DTSTAMP:20260420T020751
CREATED:20240709T093931Z
LAST-MODIFIED:20240709T093931Z
UID:9031-1720771200-1720803600@nbrotary.org
SUMMARY:Aging well in an era of extended lifespans and a growing elder population.
DESCRIPTION:Anna Stokes 
URL:https://nbrotary.org/event/aging-well-in-an-era-of-extended-lifespans-and-a-growing-elder-population/
END:VEVENT
BEGIN:VEVENT
DTSTART;TZID=America/New_York:20240705T080000
DTEND;TZID=America/New_York:20240705T170000
DTSTAMP:20260420T020751
CREATED:20240619T100346Z
LAST-MODIFIED:20240619T100346Z
UID:9015-1720166400-1720198800@nbrotary.org
SUMMARY:Happy Independence Day
DESCRIPTION:No Meeting
URL:https://nbrotary.org/event/happy-independence-day/
END:VEVENT
BEGIN:VEVENT
DTSTART;TZID=America/New_York:20240628T080000
DTEND;TZID=America/New_York:20240628T170000
DTSTAMP:20260420T020751
CREATED:20240527T134741Z
LAST-MODIFIED:20240527T134741Z
UID:8855-1719561600-1719594000@nbrotary.org
SUMMARY:Installation for New Officers
DESCRIPTION:NBRC
URL:https://nbrotary.org/event/installation-for-new-officers/
END:VEVENT
BEGIN:VEVENT
DTSTART;TZID=America/New_York:20240621T073000
DTEND;TZID=America/New_York:20240621T083000
DTSTAMP:20260420T020751
CREATED:20240610T100548Z
LAST-MODIFIED:20240618T103400Z
UID:8990-1718955000-1718958600@nbrotary.org
SUMMARY:Maryland's Climate Legislation
DESCRIPTION:Bruce Davis 
URL:https://nbrotary.org/event/tbd/
END:VEVENT
BEGIN:VEVENT
DTSTART;TZID=America/New_York:20240614T080000
DTEND;TZID=America/New_York:20240614T170000
DTSTAMP:20260420T020751
CREATED:20240527T134639Z
LAST-MODIFIED:20240527T134639Z
UID:8853-1718352000-1718384400@nbrotary.org
SUMMARY:General Manager\, Bethesda Marriott
DESCRIPTION:Chris Madoo
URL:https://nbrotary.org/event/general-manager-bethesda-marriott/
END:VEVENT
BEGIN:VEVENT
DTSTART;TZID=America/New_York:20240607T080000
DTEND;TZID=America/New_York:20240607T170000
DTSTAMP:20260420T020752
CREATED:20240527T134533Z
LAST-MODIFIED:20240527T134533Z
UID:8851-1717747200-1717779600@nbrotary.org
SUMMARY:Montgomery County Trades Foundation
DESCRIPTION:Steve Boden
URL:https://nbrotary.org/event/montgomery-county-trades-foundation/
END:VEVENT
BEGIN:VEVENT
DTSTART;VALUE=DATE:20240531
DTEND;VALUE=DATE:20240601
DTSTAMP:20260420T020752
CREATED:20240524T102514Z
LAST-MODIFIED:20240524T102514Z
UID:8821-1717113600-1717199999@nbrotary.org
SUMMARY:Roundtable discussion
DESCRIPTION:Zoom meeting
URL:https://nbrotary.org/event/roundtable-discussion/
END:VEVENT
BEGIN:VEVENT
DTSTART;VALUE=DATE:20240524
DTEND;VALUE=DATE:20240525
DTSTAMP:20260420T020752
CREATED:20240524T095109Z
LAST-MODIFIED:20240524T095109Z
UID:8819-1716508800-1716595199@nbrotary.org
SUMMARY:How can we change the world Leadership
DESCRIPTION:Lasse Syversen
URL:https://nbrotary.org/event/how-can-we-change-the-world-leadership/
END:VEVENT
END:VCALENDAR