BEGIN:VCALENDAR
VERSION:2.0
PRODID:-//North Bethesda Rotary Club - ECPv6.5.0.1//NONSGML v1.0//EN
CALSCALE:GREGORIAN
METHOD:PUBLISH
X-WR-CALNAME:North Bethesda Rotary Club
X-ORIGINAL-URL:https://nbrotary.org
X-WR-CALDESC:Events for North Bethesda Rotary Club
REFRESH-INTERVAL;VALUE=DURATION:PT1H
X-Robots-Tag:noindex
X-PUBLISHED-TTL:PT1H
BEGIN:VTIMEZONE
TZID:America/New_York
BEGIN:DAYLIGHT
TZOFFSETFROM:-0500
TZOFFSETTO:-0400
TZNAME:EDT
DTSTART:20240310T070000
END:DAYLIGHT
BEGIN:STANDARD
TZOFFSETFROM:-0400
TZOFFSETTO:-0500
TZNAME:EST
DTSTART:20241103T060000
END:STANDARD
BEGIN:DAYLIGHT
TZOFFSETFROM:-0500
TZOFFSETTO:-0400
TZNAME:EDT
DTSTART:20250309T070000
END:DAYLIGHT
BEGIN:STANDARD
TZOFFSETFROM:-0400
TZOFFSETTO:-0500
TZNAME:EST
DTSTART:20251102T060000
END:STANDARD
END:VTIMEZONE
BEGIN:VEVENT
DTSTART;TZID=America/New_York:20250103T080000
DTEND;TZID=America/New_York:20250103T170000
DTSTAMP:20260420T033636
CREATED:20241209T133907Z
LAST-MODIFIED:20241209T133907Z
UID:9211-1735891200-1735923600@nbrotary.org
SUMMARY:Classification Talk
DESCRIPTION:Kevin Flynn
URL:https://nbrotary.org/event/classification-talk-5/
END:VEVENT
BEGIN:VEVENT
DTSTART;TZID=America/New_York:20241227T080000
DTEND;TZID=America/New_York:20241227T170000
DTSTAMP:20260420T033636
CREATED:20241209T133745Z
LAST-MODIFIED:20241209T133745Z
UID:9209-1735286400-1735318800@nbrotary.org
SUMMARY:Happy Holidays 🎄
DESCRIPTION:No Meeting
URL:https://nbrotary.org/event/happy-holidays-%f0%9f%8e%84/
END:VEVENT
BEGIN:VEVENT
DTSTART;TZID=America/New_York:20241220T080000
DTEND;TZID=America/New_York:20241220T170000
DTSTAMP:20260420T033636
CREATED:20241209T133656Z
LAST-MODIFIED:20241216T102055Z
UID:9207-1734681600-1734714000@nbrotary.org
SUMMARY:Ryla 2025
DESCRIPTION:NBRC
URL:https://nbrotary.org/event/tba-4/
END:VEVENT
BEGIN:VEVENT
DTSTART;TZID=America/New_York:20241207T080000
DTEND;TZID=America/New_York:20250106T170000
DTSTAMP:20260420T033636
CREATED:20241118T101508Z
LAST-MODIFIED:20241118T101508Z
UID:9198-1733558400-1736182800@nbrotary.org
SUMMARY:At the Marriott
DESCRIPTION:Annual Holiday Party
URL:https://nbrotary.org/event/at-the-marriott/
END:VEVENT
BEGIN:VEVENT
DTSTART;TZID=America/New_York:20241206T080000
DTEND;TZID=America/New_York:20241206T170000
DTSTAMP:20260420T033636
CREATED:20241118T101356Z
LAST-MODIFIED:20241203T112537Z
UID:9196-1733472000-1733504400@nbrotary.org
SUMMARY:My Curious Life
DESCRIPTION:Paul Arveson
URL:https://nbrotary.org/event/classification-talk-4/
END:VEVENT
BEGIN:VEVENT
DTSTART;TZID=America/New_York:20241129T080000
DTEND;TZID=America/New_York:20241129T170000
DTSTAMP:20260420T033636
CREATED:20241028T104023Z
LAST-MODIFIED:20241028T104023Z
UID:9170-1732867200-1732899600@nbrotary.org
SUMMARY:No meeting
DESCRIPTION:🦃 Thanksgiving
URL:https://nbrotary.org/event/no-meeting/
END:VEVENT
BEGIN:VEVENT
DTSTART;TZID=America/New_York:20241122T080000
DTEND;TZID=America/New_York:20241122T170000
DTSTAMP:20260420T033636
CREATED:20241021T093458Z
LAST-MODIFIED:20241021T093458Z
UID:9163-1732262400-1732294800@nbrotary.org
SUMMARY:Are you Career Ready?
DESCRIPTION:Nicole Brown
URL:https://nbrotary.org/event/are-you-career-ready/
END:VEVENT
BEGIN:VEVENT
DTSTART;TZID=America/New_York:20241115T080000
DTEND;TZID=America/New_York:20241115T170000
DTSTAMP:20260420T033636
CREATED:20241021T093418Z
LAST-MODIFIED:20241021T093418Z
UID:9161-1731657600-1731690000@nbrotary.org
SUMMARY:Personal Care Foundation
DESCRIPTION:Laura Starr Ramos
URL:https://nbrotary.org/event/personal-care-foundation/
END:VEVENT
BEGIN:VEVENT
DTSTART;TZID=America/New_York:20241108T080000
DTEND;TZID=America/New_York:20241108T170000
DTSTAMP:20260420T033636
CREATED:20241014T092858Z
LAST-MODIFIED:20241028T103837Z
UID:9149-1731052800-1731085200@nbrotary.org
SUMMARY:Classification Talk
DESCRIPTION:Dan Moore
URL:https://nbrotary.org/event/classification-talk-2/
END:VEVENT
BEGIN:VEVENT
DTSTART;TZID=America/New_York:20241101T080000
DTEND;TZID=America/New_York:20241101T170000
DTSTAMP:20260420T033636
CREATED:20241014T092954Z
LAST-MODIFIED:20241021T093256Z
UID:9152-1730448000-1730480400@nbrotary.org
SUMMARY:From Norrköping\, Sweden\, to Washington\, D.C.\, and Peking\, China
DESCRIPTION:Claes Ryn
URL:https://nbrotary.org/event/classification-talk-3/
END:VEVENT
BEGIN:VEVENT
DTSTART;TZID=America/New_York:20241018T080000
DTEND;TZID=America/New_York:20241018T170000
DTSTAMP:20260420T033636
CREATED:20241014T092817Z
LAST-MODIFIED:20241014T092925Z
UID:9147-1729238400-1729270800@nbrotary.org
SUMMARY:Connecting People to Places
DESCRIPTION:Marina Khoury
URL:https://nbrotary.org/event/connecting-people-to-places-new-urbanism-kentlands-and-designing-thriving-places/
END:VEVENT
BEGIN:VEVENT
DTSTART;TZID=America/New_York:20241011T080000
DTEND;TZID=America/New_York:20241011T170000
DTSTAMP:20260420T033636
CREATED:20240923T092855Z
LAST-MODIFIED:20240923T092855Z
UID:9123-1728633600-1728666000@nbrotary.org
SUMMARY:Comedy as a Second Language
DESCRIPTION:Anna Tirat-Gefen 
URL:https://nbrotary.org/event/comedy-as-a-second-language/
END:VEVENT
BEGIN:VEVENT
DTSTART;TZID=America/New_York:20241004T080000
DTEND;TZID=America/New_York:20241004T170000
DTSTAMP:20260420T033636
CREATED:20240923T092829Z
LAST-MODIFIED:20241002T090547Z
UID:9121-1728028800-1728061200@nbrotary.org
SUMMARY:Becoming a Professional Performer and Teacher
DESCRIPTION:Chloe Ellen Stewart 
URL:https://nbrotary.org/event/tba-3/
END:VEVENT
BEGIN:VEVENT
DTSTART;TZID=America/New_York:20240927T080000
DTEND;TZID=America/New_York:20240927T170000
DTSTAMP:20260420T033636
CREATED:20240916T094537Z
LAST-MODIFIED:20240916T094537Z
UID:9109-1727424000-1727456400@nbrotary.org
SUMMARY:Melanoma Education Foundation (virtual meeting)
DESCRIPTION:Steve Fine 
URL:https://nbrotary.org/event/melanoma-education-foundation-virtual-meeting/
END:VEVENT
BEGIN:VEVENT
DTSTART;TZID=America/New_York:20240920T080000
DTEND;TZID=America/New_York:20240920T170000
DTSTAMP:20260420T033636
CREATED:20240814T083958Z
LAST-MODIFIED:20240917T084934Z
UID:9064-1726819200-1726851600@nbrotary.org
SUMMARY:The Missionary trip to Romania
DESCRIPTION:Paul Arveson
URL:https://nbrotary.org/event/an-unusual-hobby/
END:VEVENT
BEGIN:VEVENT
DTSTART;TZID=America/New_York:20240913T080000
DTEND;TZID=America/New_York:20240913T170000
DTSTAMP:20260420T033636
CREATED:20240814T083832Z
LAST-MODIFIED:20240814T083832Z
UID:9062-1726214400-1726246800@nbrotary.org
SUMMARY:Composer Sergey Rachmaninoff
DESCRIPTION:Dan Sherman Ph.D
URL:https://nbrotary.org/event/composer-sergey-rachmaninoff/
END:VEVENT
BEGIN:VEVENT
DTSTART;TZID=America/New_York:20240906T080000
DTEND;TZID=America/New_York:20240906T170000
DTSTAMP:20260420T033636
CREATED:20240827T155558Z
LAST-MODIFIED:20240827T155558Z
UID:9087-1725609600-1725642000@nbrotary.org
SUMMARY:TBA
DESCRIPTION:Bruce Fowler 
URL:https://nbrotary.org/event/tba-2/
END:VEVENT
BEGIN:VEVENT
DTSTART;TZID=America/New_York:20240830T080000
DTEND;TZID=America/New_York:20240830T170000
DTSTAMP:20260420T033636
CREATED:20240814T140152Z
LAST-MODIFIED:20240814T140152Z
UID:9070-1725004800-1725037200@nbrotary.org
SUMMARY:Status of NBRC
DESCRIPTION:Club Assembly
URL:https://nbrotary.org/event/status-of-nbrc/
END:VEVENT
BEGIN:VEVENT
DTSTART;TZID=America/New_York:20240823T080000
DTEND;TZID=America/New_York:20240823T170000
DTSTAMP:20260420T033636
CREATED:20240820T083223Z
LAST-MODIFIED:20240820T083255Z
UID:9076-1724400000-1724432400@nbrotary.org
SUMMARY:Christian Nationalism
DESCRIPTION:Rev. Pauline Farrington \n 
URL:https://nbrotary.org/event/christian-nationalism/
END:VEVENT
BEGIN:VEVENT
DTSTART;TZID=America/New_York:20240816T080000
DTEND;TZID=America/New_York:20240816T170000
DTSTAMP:20260420T033636
CREATED:20240814T083559Z
LAST-MODIFIED:20240815T083236Z
UID:9060-1723795200-1723827600@nbrotary.org
SUMMARY:Classification Talk
DESCRIPTION:Dave Fitzwilliam
URL:https://nbrotary.org/event/classification-talk/
END:VEVENT
BEGIN:VEVENT
DTSTART;TZID=America/New_York:20240809T080000
DTEND;TZID=America/New_York:20240809T170000
DTSTAMP:20260420T033636
CREATED:20240805T111439Z
LAST-MODIFIED:20240807T135028Z
UID:9056-1723190400-1723222800@nbrotary.org
SUMMARY:Roundtable
DESCRIPTION:NBRC
URL:https://nbrotary.org/event/coming-soon/
END:VEVENT
BEGIN:VEVENT
DTSTART;TZID=America/New_York:20240802T080000
DTEND;TZID=America/New_York:20240802T170000
DTSTAMP:20260420T033636
CREATED:20240801T121126Z
LAST-MODIFIED:20240801T121126Z
UID:9050-1722585600-1722618000@nbrotary.org
SUMMARY:Aquilino Cancer Center
DESCRIPTION:Donna Alonge Vaccarezza
URL:https://nbrotary.org/event/aquilino-cancer-center/
END:VEVENT
BEGIN:VEVENT
DTSTART;TZID=America/New_York:20240726T080000
DTEND;TZID=America/New_York:20240726T170000
DTSTAMP:20260420T033636
CREATED:20240710T124750Z
LAST-MODIFIED:20240710T124750Z
UID:9039-1721980800-1722013200@nbrotary.org
SUMMARY:Zoom Only
DESCRIPTION:Club Assembly
URL:https://nbrotary.org/event/zoom-only/
END:VEVENT
BEGIN:VEVENT
DTSTART;TZID=America/New_York:20240719T080000
DTEND;TZID=America/New_York:20240719T170000
DTSTAMP:20260420T033636
CREATED:20240709T094018Z
LAST-MODIFIED:20240710T124712Z
UID:9033-1721376000-1721408400@nbrotary.org
SUMMARY:Classification Talk
DESCRIPTION:Stephen Vaccarezza
URL:https://nbrotary.org/event/tba/
END:VEVENT
BEGIN:VEVENT
DTSTART;TZID=America/New_York:20240712T080000
DTEND;TZID=America/New_York:20240712T170000
DTSTAMP:20260420T033636
CREATED:20240709T093931Z
LAST-MODIFIED:20240709T093931Z
UID:9031-1720771200-1720803600@nbrotary.org
SUMMARY:Aging well in an era of extended lifespans and a growing elder population.
DESCRIPTION:Anna Stokes 
URL:https://nbrotary.org/event/aging-well-in-an-era-of-extended-lifespans-and-a-growing-elder-population/
END:VEVENT
BEGIN:VEVENT
DTSTART;TZID=America/New_York:20240705T080000
DTEND;TZID=America/New_York:20240705T170000
DTSTAMP:20260420T033636
CREATED:20240619T100346Z
LAST-MODIFIED:20240619T100346Z
UID:9015-1720166400-1720198800@nbrotary.org
SUMMARY:Happy Independence Day
DESCRIPTION:No Meeting
URL:https://nbrotary.org/event/happy-independence-day/
END:VEVENT
BEGIN:VEVENT
DTSTART;TZID=America/New_York:20240628T080000
DTEND;TZID=America/New_York:20240628T170000
DTSTAMP:20260420T033636
CREATED:20240527T134741Z
LAST-MODIFIED:20240527T134741Z
UID:8855-1719561600-1719594000@nbrotary.org
SUMMARY:Installation for New Officers
DESCRIPTION:NBRC
URL:https://nbrotary.org/event/installation-for-new-officers/
END:VEVENT
BEGIN:VEVENT
DTSTART;TZID=America/New_York:20240621T073000
DTEND;TZID=America/New_York:20240621T083000
DTSTAMP:20260420T033636
CREATED:20240610T100548Z
LAST-MODIFIED:20240618T103400Z
UID:8990-1718955000-1718958600@nbrotary.org
SUMMARY:Maryland's Climate Legislation
DESCRIPTION:Bruce Davis 
URL:https://nbrotary.org/event/tbd/
END:VEVENT
BEGIN:VEVENT
DTSTART;TZID=America/New_York:20240614T080000
DTEND;TZID=America/New_York:20240614T170000
DTSTAMP:20260420T033636
CREATED:20240527T134639Z
LAST-MODIFIED:20240527T134639Z
UID:8853-1718352000-1718384400@nbrotary.org
SUMMARY:General Manager\, Bethesda Marriott
DESCRIPTION:Chris Madoo
URL:https://nbrotary.org/event/general-manager-bethesda-marriott/
END:VEVENT
BEGIN:VEVENT
DTSTART;TZID=America/New_York:20240607T080000
DTEND;TZID=America/New_York:20240607T170000
DTSTAMP:20260420T033636
CREATED:20240527T134533Z
LAST-MODIFIED:20240527T134533Z
UID:8851-1717747200-1717779600@nbrotary.org
SUMMARY:Montgomery County Trades Foundation
DESCRIPTION:Steve Boden
URL:https://nbrotary.org/event/montgomery-county-trades-foundation/
END:VEVENT
END:VCALENDAR