BEGIN:VCALENDAR
VERSION:2.0
PRODID:-//North Bethesda Rotary Club - ECPv6.5.0.1//NONSGML v1.0//EN
CALSCALE:GREGORIAN
METHOD:PUBLISH
X-WR-CALNAME:North Bethesda Rotary Club
X-ORIGINAL-URL:https://nbrotary.org
X-WR-CALDESC:Events for North Bethesda Rotary Club
REFRESH-INTERVAL;VALUE=DURATION:PT1H
X-Robots-Tag:noindex
X-PUBLISHED-TTL:PT1H
BEGIN:VTIMEZONE
TZID:America/New_York
BEGIN:DAYLIGHT
TZOFFSETFROM:-0500
TZOFFSETTO:-0400
TZNAME:EDT
DTSTART:20260308T070000
END:DAYLIGHT
BEGIN:STANDARD
TZOFFSETFROM:-0400
TZOFFSETTO:-0500
TZNAME:EST
DTSTART:20261101T060000
END:STANDARD
END:VTIMEZONE
BEGIN:VEVENT
DTSTART;TZID=America/New_York:20260417T080000
DTEND;TZID=America/New_York:20260417T170000
DTSTAMP:20260420T033454
CREATED:20260313T151824Z
LAST-MODIFIED:20260313T151824Z
UID:9870-1776412800-1776445200@nbrotary.org
SUMMARY:Museum of the Bible
DESCRIPTION:Brian Hyland 
URL:https://nbrotary.org/event/museum-of-the-bible/
END:VEVENT
BEGIN:VEVENT
DTSTART;TZID=America/New_York:20260501T080000
DTEND;TZID=America/New_York:20260501T170000
DTSTAMP:20260420T033454
CREATED:20260313T151927Z
LAST-MODIFIED:20260313T151927Z
UID:9872-1777622400-1777654800@nbrotary.org
SUMMARY:Classification Talk
DESCRIPTION:Karen Willetts
URL:https://nbrotary.org/event/classification-talk-13/
END:VEVENT
END:VCALENDAR