BEGIN:VCALENDAR
VERSION:2.0
PRODID:-//North Bethesda Rotary Club - ECPv6.5.0.1//NONSGML v1.0//EN
CALSCALE:GREGORIAN
METHOD:PUBLISH
X-WR-CALNAME:North Bethesda Rotary Club
X-ORIGINAL-URL:https://nbrotary.org
X-WR-CALDESC:Events for North Bethesda Rotary Club
REFRESH-INTERVAL;VALUE=DURATION:PT1H
X-Robots-Tag:noindex
X-PUBLISHED-TTL:PT1H
BEGIN:VTIMEZONE
TZID:America/New_York
BEGIN:DAYLIGHT
TZOFFSETFROM:-0500
TZOFFSETTO:-0400
TZNAME:EDT
DTSTART:20240310T070000
END:DAYLIGHT
BEGIN:STANDARD
TZOFFSETFROM:-0400
TZOFFSETTO:-0500
TZNAME:EST
DTSTART:20241103T060000
END:STANDARD
BEGIN:DAYLIGHT
TZOFFSETFROM:-0500
TZOFFSETTO:-0400
TZNAME:EDT
DTSTART:20250309T070000
END:DAYLIGHT
BEGIN:STANDARD
TZOFFSETFROM:-0400
TZOFFSETTO:-0500
TZNAME:EST
DTSTART:20251102T060000
END:STANDARD
END:VTIMEZONE
BEGIN:VEVENT
DTSTART;TZID=America/New_York:20250711T080000
DTEND;TZID=America/New_York:20250711T170000
DTSTAMP:20260420T020100
CREATED:20250623T101120Z
LAST-MODIFIED:20250623T101120Z
UID:9586-1752220800-1752253200@nbrotary.org
SUMMARY:Classification Talk
DESCRIPTION:Ron Sigelman
URL:https://nbrotary.org/event/classification-talk-10/
END:VEVENT
BEGIN:VEVENT
DTSTART;TZID=America/New_York:20250704T080000
DTEND;TZID=America/New_York:20250704T170000
DTSTAMP:20260420T020100
CREATED:20250623T101048Z
LAST-MODIFIED:20250623T101048Z
UID:9584-1751616000-1751648400@nbrotary.org
SUMMARY:Happy Independence Day
DESCRIPTION:No Meeting
URL:https://nbrotary.org/event/happy-independence-day-2/
END:VEVENT
BEGIN:VEVENT
DTSTART;TZID=America/New_York:20250627T080000
DTEND;TZID=America/New_York:20250627T170000
DTSTAMP:20260420T020100
CREATED:20250618T091215Z
LAST-MODIFIED:20250618T091235Z
UID:9571-1751011200-1751043600@nbrotary.org
SUMMARY:Strategic Plan\, Membership (Zoom only)
DESCRIPTION:NBRC
URL:https://nbrotary.org/event/strategic-plan-membership-zoom-only/
END:VEVENT
BEGIN:VEVENT
DTSTART;TZID=America/New_York:20250620T080000
DTEND;TZID=America/New_York:20250620T170000
DTSTAMP:20260420T020100
CREATED:20250526T113757Z
LAST-MODIFIED:20250618T084628Z
UID:9550-1750406400-1750438800@nbrotary.org
SUMMARY:tba
DESCRIPTION:Linda Berg-Cross
URL:https://nbrotary.org/event/9550/
END:VEVENT
BEGIN:VEVENT
DTSTART;TZID=America/New_York:20250613T080000
DTEND;TZID=America/New_York:20250613T170000
DTSTAMP:20260420T020100
CREATED:20250526T113714Z
LAST-MODIFIED:20250526T113714Z
UID:9548-1749801600-1749834000@nbrotary.org
SUMMARY:Habitat for Humanity Metro Maryland
DESCRIPTION:Geoffrey Thomas  
URL:https://nbrotary.org/event/habitat-for-humanity-metro-maryland/
END:VEVENT
BEGIN:VEVENT
DTSTART;TZID=America/New_York:20250606T080000
DTEND;TZID=America/New_York:20250606T170000
DTSTAMP:20260420T020100
CREATED:20250526T113633Z
LAST-MODIFIED:20250526T113633Z
UID:9546-1749196800-1749229200@nbrotary.org
SUMMARY:Classification Talk
DESCRIPTION:Nick Martinez
URL:https://nbrotary.org/event/classification-talk-9/
END:VEVENT
BEGIN:VEVENT
DTSTART;TZID=America/New_York:20250530T080000
DTEND;TZID=America/New_York:20250530T170000
DTSTAMP:20260420T020100
CREATED:20250422T101552Z
LAST-MODIFIED:20250422T101552Z
UID:9524-1748592000-1748624400@nbrotary.org
SUMMARY:Club Assembly (Zoom Only)
DESCRIPTION:NBRC
URL:https://nbrotary.org/event/club-assembly-zoom-only-2/
END:VEVENT
BEGIN:VEVENT
DTSTART;TZID=America/New_York:20250523T080000
DTEND;TZID=America/New_York:20250523T170000
DTSTAMP:20260420T020100
CREATED:20250422T101514Z
LAST-MODIFIED:20250428T094958Z
UID:9522-1747987200-1748019600@nbrotary.org
SUMMARY:Teacher of the Year 2025
DESCRIPTION:Kristen Portalea 
URL:https://nbrotary.org/event/tba-14/
END:VEVENT
BEGIN:VEVENT
DTSTART;TZID=America/New_York:20250516T080000
DTEND;TZID=America/New_York:20250516T170000
DTSTAMP:20260420T020100
CREATED:20250422T101034Z
LAST-MODIFIED:20250422T101034Z
UID:9514-1747382400-1747414800@nbrotary.org
SUMMARY:Quantum Physics
DESCRIPTION:Darin Choulfun
URL:https://nbrotary.org/event/quantum-physics/
END:VEVENT
BEGIN:VEVENT
DTSTART;TZID=America/New_York:20250509T080000
DTEND;TZID=America/New_York:20250509T170000
DTSTAMP:20260420T020100
CREATED:20250422T101433Z
LAST-MODIFIED:20250422T101433Z
UID:9520-1746777600-1746810000@nbrotary.org
SUMMARY:TBA
DESCRIPTION:TBA
URL:https://nbrotary.org/event/tba-13/
END:VEVENT
BEGIN:VEVENT
DTSTART;TZID=America/New_York:20250502T080000
DTEND;TZID=America/New_York:20250502T170000
DTSTAMP:20260420T020100
CREATED:20250407T115418Z
LAST-MODIFIED:20250407T115418Z
UID:9457-1746172800-1746205200@nbrotary.org
SUMMARY:Classification Talk
DESCRIPTION:Lasse V. Syversen
URL:https://nbrotary.org/event/classification-talk-8/
END:VEVENT
BEGIN:VEVENT
DTSTART;TZID=America/New_York:20250425T080000
DTEND;TZID=America/New_York:20250425T170000
DTSTAMP:20260420T020100
CREATED:20250324T111900Z
LAST-MODIFIED:20250422T101333Z
UID:9426-1745568000-1745600400@nbrotary.org
SUMMARY:Success Client story (Zoom Only)
DESCRIPTION:Glen B. Fields
URL:https://nbrotary.org/event/club-assembly/
END:VEVENT
BEGIN:VEVENT
DTSTART;TZID=America/New_York:20250418T080000
DTEND;TZID=America/New_York:20250418T170000
DTSTAMP:20260420T020100
CREATED:20250324T111810Z
LAST-MODIFIED:20250402T102313Z
UID:9424-1744963200-1744995600@nbrotary.org
SUMMARY:Tax-Smart Charitable Giving
DESCRIPTION:Jake Matysek 
URL:https://nbrotary.org/event/no-meeting-2/
END:VEVENT
BEGIN:VEVENT
DTSTART;TZID=America/New_York:20250411T080000
DTEND;TZID=America/New_York:20250411T170000
DTSTAMP:20260420T020100
CREATED:20250324T111741Z
LAST-MODIFIED:20250324T111741Z
UID:9422-1744358400-1744390800@nbrotary.org
SUMMARY:Tba
DESCRIPTION:Michael Lukpetris 
URL:https://nbrotary.org/event/tba-12/
END:VEVENT
BEGIN:VEVENT
DTSTART;TZID=America/New_York:20250404T080000
DTEND;TZID=America/New_York:20250404T170000
DTSTAMP:20260420T020100
CREATED:20250319T120450Z
LAST-MODIFIED:20250319T120450Z
UID:9417-1743753600-1743786000@nbrotary.org
SUMMARY:Classification Talk
DESCRIPTION:Melissa Richards
URL:https://nbrotary.org/event/classification-talk-7/
END:VEVENT
BEGIN:VEVENT
DTSTART;TZID=America/New_York:20250328T080000
DTEND;TZID=America/New_York:20250328T170000
DTSTAMP:20260420T020100
CREATED:20250303T154720Z
LAST-MODIFIED:20250324T111958Z
UID:9347-1743148800-1743181200@nbrotary.org
SUMMARY:Club Assembly (Zoom only)
DESCRIPTION:NBRC
URL:https://nbrotary.org/event/zoom-only-2/
END:VEVENT
BEGIN:VEVENT
DTSTART;TZID=America/New_York:20250321T080000
DTEND;TZID=America/New_York:20250321T170000
DTSTAMP:20260420T020100
CREATED:20250303T154655Z
LAST-MODIFIED:20250319T120253Z
UID:9345-1742544000-1742576400@nbrotary.org
SUMMARY:No topic
DESCRIPTION:NBRC
URL:https://nbrotary.org/event/tba-11/
END:VEVENT
BEGIN:VEVENT
DTSTART;TZID=America/New_York:20250314T080000
DTEND;TZID=America/New_York:20250314T170000
DTSTAMP:20260420T020100
CREATED:20250303T154620Z
LAST-MODIFIED:20250303T154620Z
UID:9343-1741939200-1741971600@nbrotary.org
SUMMARY:The Ryla Experience
DESCRIPTION:Malaika Wande 
URL:https://nbrotary.org/event/the-ryla-experience/
END:VEVENT
BEGIN:VEVENT
DTSTART;TZID=America/New_York:20250307T080000
DTEND;TZID=America/New_York:20250307T170000
DTSTAMP:20260420T020100
CREATED:20250226T100257Z
LAST-MODIFIED:20250226T100257Z
UID:9337-1741334400-1741366800@nbrotary.org
SUMMARY:Classification Talk
DESCRIPTION:Kent Mason
URL:https://nbrotary.org/event/classification-talk-6/
END:VEVENT
BEGIN:VEVENT
DTSTART;TZID=America/New_York:20250228T080000
DTEND;TZID=America/New_York:20250228T170000
DTSTAMP:20260420T020100
CREATED:20250205T111327Z
LAST-MODIFIED:20250226T100219Z
UID:9311-1740729600-1740762000@nbrotary.org
SUMMARY:Cub Assembly (Zoom only)
DESCRIPTION:NBRC
URL:https://nbrotary.org/event/tba-9/
END:VEVENT
BEGIN:VEVENT
DTSTART;TZID=America/New_York:20250221T080000
DTEND;TZID=America/New_York:20250221T170000
DTSTAMP:20260420T020100
CREATED:20250205T111309Z
LAST-MODIFIED:20250220T145415Z
UID:9309-1740124800-1740157200@nbrotary.org
SUMMARY:Elevating Healthcare Through Compassion\, Policy\, and Leadership
DESCRIPTION:Jerri Scarzella
URL:https://nbrotary.org/event/tba-8/
END:VEVENT
BEGIN:VEVENT
DTSTART;TZID=America/New_York:20250214T080000
DTEND;TZID=America/New_York:20250214T170000
DTSTAMP:20260420T020100
CREATED:20250207T131601Z
LAST-MODIFIED:20250207T131601Z
UID:9320-1739520000-1739552400@nbrotary.org
SUMMARY:TBA
DESCRIPTION:TBA
URL:https://nbrotary.org/event/tba-10/
END:VEVENT
BEGIN:VEVENT
DTSTART;TZID=America/New_York:20250207T080000
DTEND;TZID=America/New_York:20250207T170000
DTSTAMP:20260420T020100
CREATED:20250127T120130Z
LAST-MODIFIED:20250207T131534Z
UID:9304-1738915200-1738947600@nbrotary.org
SUMMARY:Russian School of Mathematics - a success story
DESCRIPTION:Tatyana Feliskon
URL:https://nbrotary.org/event/tba-7/
END:VEVENT
BEGIN:VEVENT
DTSTART;TZID=America/New_York:20250131T080000
DTEND;TZID=America/New_York:20250131T170000
DTSTAMP:20260420T020100
CREATED:20250106T112631Z
LAST-MODIFIED:20250106T112631Z
UID:9277-1738310400-1738342800@nbrotary.org
SUMMARY:Club Assembly (Zoom only)
DESCRIPTION:NBRC
URL:https://nbrotary.org/event/club-assembly-zoom-only/
END:VEVENT
BEGIN:VEVENT
DTSTART;TZID=America/New_York:20250124T080000
DTEND;TZID=America/New_York:20250124T170000
DTSTAMP:20260420T020100
CREATED:20250106T112606Z
LAST-MODIFIED:20250117T132600Z
UID:9275-1737705600-1737738000@nbrotary.org
SUMMARY:Costume Designer
DESCRIPTION:Alisa Mandel
URL:https://nbrotary.org/event/tba-6/
END:VEVENT
BEGIN:VEVENT
DTSTART;TZID=America/New_York:20250117T080000
DTEND;TZID=America/New_York:20250117T170000
DTSTAMP:20260420T020100
CREATED:20250106T112553Z
LAST-MODIFIED:20250115T104342Z
UID:9273-1737100800-1737133200@nbrotary.org
SUMMARY:Professional Ethics and the 4-Way Test
DESCRIPTION:Claes Ryn
URL:https://nbrotary.org/event/tba-5/
END:VEVENT
BEGIN:VEVENT
DTSTART;TZID=America/New_York:20250110T080000
DTEND;TZID=America/New_York:20250110T170000
DTSTAMP:20260420T020100
CREATED:20241209T133950Z
LAST-MODIFIED:20241209T133950Z
UID:9213-1736496000-1736528400@nbrotary.org
SUMMARY:Boy Scouts of America
DESCRIPTION:Geoffrey Thomas 
URL:https://nbrotary.org/event/boy-scouts-of-america/
END:VEVENT
BEGIN:VEVENT
DTSTART;TZID=America/New_York:20250103T080000
DTEND;TZID=America/New_York:20250103T170000
DTSTAMP:20260420T020100
CREATED:20241209T133907Z
LAST-MODIFIED:20241209T133907Z
UID:9211-1735891200-1735923600@nbrotary.org
SUMMARY:Classification Talk
DESCRIPTION:Kevin Flynn
URL:https://nbrotary.org/event/classification-talk-5/
END:VEVENT
BEGIN:VEVENT
DTSTART;TZID=America/New_York:20241227T080000
DTEND;TZID=America/New_York:20241227T170000
DTSTAMP:20260420T020100
CREATED:20241209T133745Z
LAST-MODIFIED:20241209T133745Z
UID:9209-1735286400-1735318800@nbrotary.org
SUMMARY:Happy Holidays 🎄
DESCRIPTION:No Meeting
URL:https://nbrotary.org/event/happy-holidays-%f0%9f%8e%84/
END:VEVENT
BEGIN:VEVENT
DTSTART;TZID=America/New_York:20241220T080000
DTEND;TZID=America/New_York:20241220T170000
DTSTAMP:20260420T020100
CREATED:20241209T133656Z
LAST-MODIFIED:20241216T102055Z
UID:9207-1734681600-1734714000@nbrotary.org
SUMMARY:Ryla 2025
DESCRIPTION:NBRC
URL:https://nbrotary.org/event/tba-4/
END:VEVENT
END:VCALENDAR