BEGIN:VCALENDAR
VERSION:2.0
PRODID:-//North Bethesda Rotary Club - ECPv6.5.0.1//NONSGML v1.0//EN
CALSCALE:GREGORIAN
METHOD:PUBLISH
X-WR-CALNAME:North Bethesda Rotary Club
X-ORIGINAL-URL:https://nbrotary.org
X-WR-CALDESC:Events for North Bethesda Rotary Club
REFRESH-INTERVAL;VALUE=DURATION:PT1H
X-Robots-Tag:noindex
X-PUBLISHED-TTL:PT1H
BEGIN:VTIMEZONE
TZID:America/New_York
BEGIN:DAYLIGHT
TZOFFSETFROM:-0500
TZOFFSETTO:-0400
TZNAME:EDT
DTSTART:20250309T070000
END:DAYLIGHT
BEGIN:STANDARD
TZOFFSETFROM:-0400
TZOFFSETTO:-0500
TZNAME:EST
DTSTART:20251102T060000
END:STANDARD
BEGIN:DAYLIGHT
TZOFFSETFROM:-0500
TZOFFSETTO:-0400
TZNAME:EDT
DTSTART:20260308T070000
END:DAYLIGHT
BEGIN:STANDARD
TZOFFSETFROM:-0400
TZOFFSETTO:-0500
TZNAME:EST
DTSTART:20261101T060000
END:STANDARD
END:VTIMEZONE
BEGIN:VEVENT
DTSTART;TZID=America/New_York:20251107T080000
DTEND;TZID=America/New_York:20251107T170000
DTSTAMP:20260419T221450
CREATED:20251020T091855Z
LAST-MODIFIED:20251105T102338Z
UID:9688-1762502400-1762534800@nbrotary.org
SUMMARY:Experiential Learning
DESCRIPTION:Ross Swope 
URL:https://nbrotary.org/event/tba-23/
END:VEVENT
BEGIN:VEVENT
DTSTART;TZID=America/New_York:20251114T080000
DTEND;TZID=America/New_York:20251114T170000
DTSTAMP:20260419T221450
CREATED:20251105T102406Z
LAST-MODIFIED:20251105T102406Z
UID:9699-1763107200-1763139600@nbrotary.org
SUMMARY:
DESCRIPTION:TBA
URL:https://nbrotary.org/event/9699/
END:VEVENT
BEGIN:VEVENT
DTSTART;TZID=America/New_York:20251121T080000
DTEND;TZID=America/New_York:20251121T170000
DTSTAMP:20260419T221450
CREATED:20251105T102431Z
LAST-MODIFIED:20251118T101613Z
UID:9701-1763712000-1763744400@nbrotary.org
SUMMARY:Building Library at the Ivory Coast
DESCRIPTION:Karen Willetts
URL:https://nbrotary.org/event/9701/
END:VEVENT
BEGIN:VEVENT
DTSTART;TZID=America/New_York:20251128T080000
DTEND;TZID=America/New_York:20251128T170000
DTSTAMP:20260419T221450
CREATED:20251105T102448Z
LAST-MODIFIED:20251118T101637Z
UID:9703-1764316800-1764349200@nbrotary.org
SUMMARY:Happy Thanksgiving
DESCRIPTION:No meeting
URL:https://nbrotary.org/event/9703/
END:VEVENT
BEGIN:VEVENT
DTSTART;TZID=America/New_York:20251205T080000
DTEND;TZID=America/New_York:20251205T170000
DTSTAMP:20260419T221450
CREATED:20251118T101759Z
LAST-MODIFIED:20251202T123821Z
UID:9711-1764921600-1764954000@nbrotary.org
SUMMARY:HarvestShare Program
DESCRIPTION:Cat Kahn 
URL:https://nbrotary.org/event/open/
END:VEVENT
BEGIN:VEVENT
DTSTART;TZID=America/New_York:20251212T080000
DTEND;TZID=America/New_York:20251212T170000
DTSTAMP:20260419T221450
CREATED:20251118T101829Z
LAST-MODIFIED:20251118T101829Z
UID:9713-1765526400-1765558800@nbrotary.org
SUMMARY:Open
DESCRIPTION:TBA
URL:https://nbrotary.org/event/open-2/
END:VEVENT
BEGIN:VEVENT
DTSTART;TZID=America/New_York:20251213T080000
DTEND;TZID=America/New_York:20251213T170000
DTSTAMP:20260419T221450
CREATED:20251118T101910Z
LAST-MODIFIED:20251118T101910Z
UID:9715-1765612800-1765645200@nbrotary.org
SUMMARY:The Marriott
DESCRIPTION:Holiday Party
URL:https://nbrotary.org/event/the-marriott/
END:VEVENT
BEGIN:VEVENT
DTSTART;TZID=America/New_York:20251219T080000
DTEND;TZID=America/New_York:20251219T170000
DTSTAMP:20260419T221450
CREATED:20251208T134741Z
LAST-MODIFIED:20251208T134755Z
UID:9731-1766131200-1766163600@nbrotary.org
SUMMARY:Annual Meeting
DESCRIPTION:NBRC
URL:https://nbrotary.org/event/annual-meeting-2/
END:VEVENT
BEGIN:VEVENT
DTSTART;TZID=America/New_York:20251226T080000
DTEND;TZID=America/New_York:20251226T170000
DTSTAMP:20260419T221450
CREATED:20251208T134836Z
LAST-MODIFIED:20251208T134836Z
UID:9733-1766736000-1766768400@nbrotary.org
SUMMARY:Merry Christmas
DESCRIPTION:No Meeting
URL:https://nbrotary.org/event/merry-christmas/
END:VEVENT
BEGIN:VEVENT
DTSTART;TZID=America/New_York:20260102T080000
DTEND;TZID=America/New_York:20260102T170000
DTSTAMP:20260419T221450
CREATED:20251208T134930Z
LAST-MODIFIED:20251229T110042Z
UID:9735-1767340800-1767373200@nbrotary.org
SUMMARY:No meeting
DESCRIPTION:Happy New Year
URL:https://nbrotary.org/event/tba-24/
END:VEVENT
BEGIN:VEVENT
DTSTART;TZID=America/New_York:20260109T080000
DTEND;TZID=America/New_York:20260109T170000
DTSTAMP:20260419T221450
CREATED:20251229T105600Z
LAST-MODIFIED:20251229T110016Z
UID:9779-1767945600-1767978000@nbrotary.org
SUMMARY:TBA
DESCRIPTION:NBRC
URL:https://nbrotary.org/event/9779/
END:VEVENT
BEGIN:VEVENT
DTSTART;TZID=America/New_York:20260116T080000
DTEND;TZID=America/New_York:20260116T170000
DTSTAMP:20260419T221450
CREATED:20251229T105757Z
LAST-MODIFIED:20251229T105858Z
UID:9781-1768550400-1768582800@nbrotary.org
SUMMARY:Story Tapestries
DESCRIPTION:Arianna Ross & Kellie Butsack 
URL:https://nbrotary.org/event/story-tapestries/
END:VEVENT
BEGIN:VEVENT
DTSTART;TZID=America/New_York:20260123T080000
DTEND;TZID=America/New_York:20260123T170000
DTSTAMP:20260419T221450
CREATED:20251229T105925Z
LAST-MODIFIED:20260119T093858Z
UID:9785-1769155200-1769187600@nbrotary.org
SUMMARY:Lviv Construction and Recovery Fund in Ukraine
DESCRIPTION:Bob Webster 
URL:https://nbrotary.org/event/tba-25/
END:VEVENT
BEGIN:VEVENT
DTSTART;TZID=America/New_York:20260130T080000
DTEND;TZID=America/New_York:20260130T170000
DTSTAMP:20260419T221450
CREATED:20251229T105949Z
LAST-MODIFIED:20251229T110058Z
UID:9787-1769760000-1769792400@nbrotary.org
SUMMARY:TBA (Zoom only)
DESCRIPTION:NBRC
URL:https://nbrotary.org/event/tba-26/
END:VEVENT
BEGIN:VEVENT
DTSTART;TZID=America/New_York:20260206T080000
DTEND;TZID=America/New_York:20260206T170000
DTSTAMP:20260419T221450
CREATED:20260119T093933Z
LAST-MODIFIED:20260123T141945Z
UID:9814-1770364800-1770397200@nbrotary.org
SUMMARY:Classification Talk
DESCRIPTION:Kevin Flynn
URL:https://nbrotary.org/event/tba-27/
END:VEVENT
BEGIN:VEVENT
DTSTART;TZID=America/New_York:20260213T080000
DTEND;TZID=America/New_York:20260213T170000
DTSTAMP:20260419T221450
CREATED:20260119T094021Z
LAST-MODIFIED:20260119T094021Z
UID:9816-1770969600-1771002000@nbrotary.org
SUMMARY:Satellite measurements to understand our changing planet
DESCRIPTION:Dr.Denis Felikson
URL:https://nbrotary.org/event/satellite-measurements-to-understand-our-changing-planet/
END:VEVENT
BEGIN:VEVENT
DTSTART;TZID=America/New_York:20260220T080000
DTEND;TZID=America/New_York:20260220T170000
DTSTAMP:20260419T221450
CREATED:20260119T094051Z
LAST-MODIFIED:20260209T111839Z
UID:9818-1771574400-1771606800@nbrotary.org
SUMMARY:Fish Are Also People - an Underwater Impressionistic Perspective
DESCRIPTION:Bruce Fowler 
URL:https://nbrotary.org/event/underwater-art/
END:VEVENT
BEGIN:VEVENT
DTSTART;TZID=America/New_York:20260227T080000
DTEND;TZID=America/New_York:20260227T170000
DTSTAMP:20260419T221450
CREATED:20260223T113632Z
LAST-MODIFIED:20260223T113632Z
UID:9842-1772179200-1772211600@nbrotary.org
SUMMARY:Club Assembly (Zoom Only)
DESCRIPTION:NBRC
URL:https://nbrotary.org/event/club-assembly-zoom-only-3/
END:VEVENT
BEGIN:VEVENT
DTSTART;TZID=America/New_York:20260306T080000
DTEND;TZID=America/New_York:20260306T170000
DTSTAMP:20260419T221450
CREATED:20260209T111913Z
LAST-MODIFIED:20260209T111913Z
UID:9836-1772784000-1772816400@nbrotary.org
SUMMARY:Classification Talk
DESCRIPTION:Sadiq Amini
URL:https://nbrotary.org/event/classification-talk-12/
END:VEVENT
BEGIN:VEVENT
DTSTART;TZID=America/New_York:20260313T080000
DTEND;TZID=America/New_York:20260313T170000
DTSTAMP:20260419T221450
CREATED:20260223T113700Z
LAST-MODIFIED:20260313T151455Z
UID:9844-1773388800-1773421200@nbrotary.org
SUMMARY:Ideas Beyond Borders
DESCRIPTION:Ahmad Mansoor Ramizy
URL:https://nbrotary.org/event/tba-28/
END:VEVENT
BEGIN:VEVENT
DTSTART;TZID=America/New_York:20260320T080000
DTEND;TZID=America/New_York:20260320T170000
DTSTAMP:20260419T221450
CREATED:20260223T113715Z
LAST-MODIFIED:20260313T151542Z
UID:9846-1773993600-1774026000@nbrotary.org
SUMMARY:Liturgical artist
DESCRIPTION:Catherine Kapikian 
URL:https://nbrotary.org/event/tba-29/
END:VEVENT
BEGIN:VEVENT
DTSTART;TZID=America/New_York:20260327T080000
DTEND;TZID=America/New_York:20260327T170000
DTSTAMP:20260419T221450
CREATED:20260223T113739Z
LAST-MODIFIED:20260313T151613Z
UID:9848-1774598400-1774630800@nbrotary.org
SUMMARY:Club Assembly (Zoom Only)
DESCRIPTION:NBRC
URL:https://nbrotary.org/event/tba-zoom-only/
END:VEVENT
BEGIN:VEVENT
DTSTART;TZID=America/New_York:20260403T080000
DTEND;TZID=America/New_York:20260403T170000
DTSTAMP:20260419T221450
CREATED:20260313T151741Z
LAST-MODIFIED:20260320T102048Z
UID:9868-1775203200-1775235600@nbrotary.org
SUMMARY:Geopolitical Developments: The Middle East and Russia’s Role (Zoom Only)
DESCRIPTION:Cees Roels 
URL:https://nbrotary.org/event/zoom-only-7/
END:VEVENT
BEGIN:VEVENT
DTSTART;TZID=America/New_York:20260410T080000
DTEND;TZID=America/New_York:20260410T170000
DTSTAMP:20260419T221450
CREATED:20260313T151717Z
LAST-MODIFIED:20260313T151717Z
UID:9866-1775808000-1775840400@nbrotary.org
SUMMARY:Attorney\, Private Practice
DESCRIPTION:Bita Golshan Lotfi  
URL:https://nbrotary.org/event/attorney-private-practice/
END:VEVENT
BEGIN:VEVENT
DTSTART;TZID=America/New_York:20260417T080000
DTEND;TZID=America/New_York:20260417T170000
DTSTAMP:20260419T221450
CREATED:20260313T151824Z
LAST-MODIFIED:20260313T151824Z
UID:9870-1776412800-1776445200@nbrotary.org
SUMMARY:Museum of the Bible
DESCRIPTION:Brian Hyland 
URL:https://nbrotary.org/event/museum-of-the-bible/
END:VEVENT
BEGIN:VEVENT
DTSTART;TZID=America/New_York:20260501T080000
DTEND;TZID=America/New_York:20260501T170000
DTSTAMP:20260419T221450
CREATED:20260313T151927Z
LAST-MODIFIED:20260313T151927Z
UID:9872-1777622400-1777654800@nbrotary.org
SUMMARY:Classification Talk
DESCRIPTION:Karen Willetts
URL:https://nbrotary.org/event/classification-talk-13/
END:VEVENT
END:VCALENDAR