BEGIN:VCALENDAR
VERSION:2.0
PRODID:-//North Bethesda Rotary Club - ECPv6.5.0.1//NONSGML v1.0//EN
CALSCALE:GREGORIAN
METHOD:PUBLISH
X-WR-CALNAME:North Bethesda Rotary Club
X-ORIGINAL-URL:https://nbrotary.org
X-WR-CALDESC:Events for North Bethesda Rotary Club
REFRESH-INTERVAL;VALUE=DURATION:PT1H
X-Robots-Tag:noindex
X-PUBLISHED-TTL:PT1H
BEGIN:VTIMEZONE
TZID:America/New_York
BEGIN:DAYLIGHT
TZOFFSETFROM:-0500
TZOFFSETTO:-0400
TZNAME:EDT
DTSTART:20250309T070000
END:DAYLIGHT
BEGIN:STANDARD
TZOFFSETFROM:-0400
TZOFFSETTO:-0500
TZNAME:EST
DTSTART:20251102T060000
END:STANDARD
END:VTIMEZONE
BEGIN:VEVENT
DTSTART;TZID=America/New_York:20251031T080000
DTEND;TZID=America/New_York:20251031T170000
DTSTAMP:20260419T204108
CREATED:20250917T090151Z
LAST-MODIFIED:20250917T090151Z
UID:9664-1761897600-1761930000@nbrotary.org
SUMMARY:Zoom Only
DESCRIPTION:NBRC
URL:https://nbrotary.org/event/zoom-only-6/
END:VEVENT
BEGIN:VEVENT
DTSTART;TZID=America/New_York:20251024T080000
DTEND;TZID=America/New_York:20251024T170000
DTSTAMP:20260419T204108
CREATED:20250917T090120Z
LAST-MODIFIED:20250922T093629Z
UID:9662-1761292800-1761325200@nbrotary.org
SUMMARY:Entrepreneurship in Frontier Markets
DESCRIPTION:Kim Bettcher Ph.D
URL:https://nbrotary.org/event/tba-22/
END:VEVENT
BEGIN:VEVENT
DTSTART;TZID=America/New_York:20251017T080000
DTEND;TZID=America/New_York:20251017T170000
DTSTAMP:20260419T204108
CREATED:20250917T090052Z
LAST-MODIFIED:20251013T094451Z
UID:9660-1760688000-1760720400@nbrotary.org
SUMMARY:Isn't It Time to Abolish the Class Society?
DESCRIPTION:Claes Ryn
URL:https://nbrotary.org/event/tba-21/
END:VEVENT
BEGIN:VEVENT
DTSTART;TZID=America/New_York:20251010T080000
DTEND;TZID=America/New_York:20251010T170000
DTSTAMP:20260419T204108
CREATED:20250917T090026Z
LAST-MODIFIED:20250917T090026Z
UID:9658-1760083200-1760115600@nbrotary.org
SUMMARY:Roots of Development
DESCRIPTION:Chad Bissonnette 
URL:https://nbrotary.org/event/roots-of-development/
END:VEVENT
BEGIN:VEVENT
DTSTART;TZID=America/New_York:20251003T080000
DTEND;TZID=America/New_York:20251003T170000
DTSTAMP:20260419T204108
CREATED:20250917T085952Z
LAST-MODIFIED:20250922T093545Z
UID:9656-1759478400-1759510800@nbrotary.org
SUMMARY:The change in Medical practice over the last 40 years
DESCRIPTION:Steve Vaccarezza
URL:https://nbrotary.org/event/tba-20/
END:VEVENT
BEGIN:VEVENT
DTSTART;TZID=America/New_York:20250926T080000
DTEND;TZID=America/New_York:20250926T170000
DTSTAMP:20260419T204108
CREATED:20250901T101155Z
LAST-MODIFIED:20250901T101155Z
UID:9653-1758873600-1758906000@nbrotary.org
SUMMARY:Zoom only
DESCRIPTION:NBRC
URL:https://nbrotary.org/event/zoom-only-5/
END:VEVENT
BEGIN:VEVENT
DTSTART;TZID=America/New_York:20250919T080000
DTEND;TZID=America/New_York:20250919T170000
DTSTAMP:20260419T204108
CREATED:20250901T101129Z
LAST-MODIFIED:20250901T101129Z
UID:9651-1758268800-1758301200@nbrotary.org
SUMMARY:Zoom only
DESCRIPTION:TBA
URL:https://nbrotary.org/event/zoom-only-4/
END:VEVENT
BEGIN:VEVENT
DTSTART;TZID=America/New_York:20250912T080000
DTEND;TZID=America/New_York:20250912T170000
DTSTAMP:20260419T204108
CREATED:20250901T101105Z
LAST-MODIFIED:20250901T101105Z
UID:9649-1757664000-1757696400@nbrotary.org
SUMMARY:TBA
DESCRIPTION:TBA
URL:https://nbrotary.org/event/tba-19/
END:VEVENT
BEGIN:VEVENT
DTSTART;TZID=America/New_York:20250905T080000
DTEND;TZID=America/New_York:20250905T170000
DTSTAMP:20260419T204108
CREATED:20250825T093129Z
LAST-MODIFIED:20250825T093129Z
UID:9643-1757059200-1757091600@nbrotary.org
SUMMARY:Classification Talk
DESCRIPTION:Victoria Feldman
URL:https://nbrotary.org/event/classification-talk-11/
END:VEVENT
BEGIN:VEVENT
DTSTART;TZID=America/New_York:20250829T080000
DTEND;TZID=America/New_York:20250829T170000
DTSTAMP:20260419T204108
CREATED:20250728T093740Z
LAST-MODIFIED:20250728T093740Z
UID:9615-1756454400-1756486800@nbrotary.org
SUMMARY:Zoom Only
DESCRIPTION:NBRC 
URL:https://nbrotary.org/event/zoom-only-3/
END:VEVENT
BEGIN:VEVENT
DTSTART;TZID=America/New_York:20250822T080000
DTEND;TZID=America/New_York:20250822T170000
DTSTAMP:20260419T204108
CREATED:20250728T093700Z
LAST-MODIFIED:20250801T083111Z
UID:9613-1755849600-1755882000@nbrotary.org
SUMMARY:The Promise of Ethical AI in Peacebuilding
DESCRIPTION:Eric Koch
URL:https://nbrotary.org/event/tba-18/
END:VEVENT
BEGIN:VEVENT
DTSTART;TZID=America/New_York:20250815T080000
DTEND;TZID=America/New_York:20250815T170000
DTSTAMP:20260419T204108
CREATED:20250728T093630Z
LAST-MODIFIED:20250814T110135Z
UID:9611-1755244800-1755277200@nbrotary.org
SUMMARY:Club Assembly
DESCRIPTION:NBRC
URL:https://nbrotary.org/event/tba-17/
END:VEVENT
BEGIN:VEVENT
DTSTART;TZID=America/New_York:20250808T080000
DTEND;TZID=America/New_York:20250808T170000
DTSTAMP:20260419T204108
CREATED:20250728T093535Z
LAST-MODIFIED:20250728T093550Z
UID:9608-1754640000-1754672400@nbrotary.org
SUMMARY:Ambassador for Peace 
DESCRIPTION:Ukpeme Akpan
URL:https://nbrotary.org/event/ukpeme-akpan-ambassador-for-peace/
END:VEVENT
BEGIN:VEVENT
DTSTART;TZID=America/New_York:20250801T080000
DTEND;TZID=America/New_York:20250801T170000
DTSTAMP:20260419T204108
CREATED:20250623T101259Z
LAST-MODIFIED:20250623T101259Z
UID:9592-1754035200-1754067600@nbrotary.org
SUMMARY:A Lifetime in Law Enforcement
DESCRIPTION:Ross E. Swope
URL:https://nbrotary.org/event/a-lifetime-in-law-enforcement/
END:VEVENT
BEGIN:VEVENT
DTSTART;TZID=America/New_York:20250725T080000
DTEND;TZID=America/New_York:20250725T170000
DTSTAMP:20260419T204108
CREATED:20250623T101154Z
LAST-MODIFIED:20250704T091511Z
UID:9590-1753430400-1753462800@nbrotary.org
SUMMARY:Zoom Only
DESCRIPTION:NBRC
URL:https://nbrotary.org/event/tba-16/
END:VEVENT
BEGIN:VEVENT
DTSTART;TZID=America/New_York:20250718T080000
DTEND;TZID=America/New_York:20250718T170000
DTSTAMP:20260419T204108
CREATED:20250623T101136Z
LAST-MODIFIED:20250704T091441Z
UID:9588-1752825600-1752858000@nbrotary.org
SUMMARY:Installation New Officers
DESCRIPTION:NBRC
URL:https://nbrotary.org/event/tba-15/
END:VEVENT
BEGIN:VEVENT
DTSTART;TZID=America/New_York:20250711T080000
DTEND;TZID=America/New_York:20250711T170000
DTSTAMP:20260419T204108
CREATED:20250623T101120Z
LAST-MODIFIED:20250623T101120Z
UID:9586-1752220800-1752253200@nbrotary.org
SUMMARY:Classification Talk
DESCRIPTION:Ron Sigelman
URL:https://nbrotary.org/event/classification-talk-10/
END:VEVENT
BEGIN:VEVENT
DTSTART;TZID=America/New_York:20250704T080000
DTEND;TZID=America/New_York:20250704T170000
DTSTAMP:20260419T204108
CREATED:20250623T101048Z
LAST-MODIFIED:20250623T101048Z
UID:9584-1751616000-1751648400@nbrotary.org
SUMMARY:Happy Independence Day
DESCRIPTION:No Meeting
URL:https://nbrotary.org/event/happy-independence-day-2/
END:VEVENT
BEGIN:VEVENT
DTSTART;TZID=America/New_York:20250627T080000
DTEND;TZID=America/New_York:20250627T170000
DTSTAMP:20260419T204108
CREATED:20250618T091215Z
LAST-MODIFIED:20250618T091235Z
UID:9571-1751011200-1751043600@nbrotary.org
SUMMARY:Strategic Plan\, Membership (Zoom only)
DESCRIPTION:NBRC
URL:https://nbrotary.org/event/strategic-plan-membership-zoom-only/
END:VEVENT
BEGIN:VEVENT
DTSTART;TZID=America/New_York:20250620T080000
DTEND;TZID=America/New_York:20250620T170000
DTSTAMP:20260419T204108
CREATED:20250526T113757Z
LAST-MODIFIED:20250618T084628Z
UID:9550-1750406400-1750438800@nbrotary.org
SUMMARY:tba
DESCRIPTION:Linda Berg-Cross
URL:https://nbrotary.org/event/9550/
END:VEVENT
BEGIN:VEVENT
DTSTART;TZID=America/New_York:20250613T080000
DTEND;TZID=America/New_York:20250613T170000
DTSTAMP:20260419T204108
CREATED:20250526T113714Z
LAST-MODIFIED:20250526T113714Z
UID:9548-1749801600-1749834000@nbrotary.org
SUMMARY:Habitat for Humanity Metro Maryland
DESCRIPTION:Geoffrey Thomas  
URL:https://nbrotary.org/event/habitat-for-humanity-metro-maryland/
END:VEVENT
BEGIN:VEVENT
DTSTART;TZID=America/New_York:20250606T080000
DTEND;TZID=America/New_York:20250606T170000
DTSTAMP:20260419T204108
CREATED:20250526T113633Z
LAST-MODIFIED:20250526T113633Z
UID:9546-1749196800-1749229200@nbrotary.org
SUMMARY:Classification Talk
DESCRIPTION:Nick Martinez
URL:https://nbrotary.org/event/classification-talk-9/
END:VEVENT
BEGIN:VEVENT
DTSTART;TZID=America/New_York:20250530T080000
DTEND;TZID=America/New_York:20250530T170000
DTSTAMP:20260419T204108
CREATED:20250422T101552Z
LAST-MODIFIED:20250422T101552Z
UID:9524-1748592000-1748624400@nbrotary.org
SUMMARY:Club Assembly (Zoom Only)
DESCRIPTION:NBRC
URL:https://nbrotary.org/event/club-assembly-zoom-only-2/
END:VEVENT
BEGIN:VEVENT
DTSTART;TZID=America/New_York:20250523T080000
DTEND;TZID=America/New_York:20250523T170000
DTSTAMP:20260419T204108
CREATED:20250422T101514Z
LAST-MODIFIED:20250428T094958Z
UID:9522-1747987200-1748019600@nbrotary.org
SUMMARY:Teacher of the Year 2025
DESCRIPTION:Kristen Portalea 
URL:https://nbrotary.org/event/tba-14/
END:VEVENT
BEGIN:VEVENT
DTSTART;TZID=America/New_York:20250516T080000
DTEND;TZID=America/New_York:20250516T170000
DTSTAMP:20260419T204108
CREATED:20250422T101034Z
LAST-MODIFIED:20250422T101034Z
UID:9514-1747382400-1747414800@nbrotary.org
SUMMARY:Quantum Physics
DESCRIPTION:Darin Choulfun
URL:https://nbrotary.org/event/quantum-physics/
END:VEVENT
BEGIN:VEVENT
DTSTART;TZID=America/New_York:20250509T080000
DTEND;TZID=America/New_York:20250509T170000
DTSTAMP:20260419T204108
CREATED:20250422T101433Z
LAST-MODIFIED:20250422T101433Z
UID:9520-1746777600-1746810000@nbrotary.org
SUMMARY:TBA
DESCRIPTION:TBA
URL:https://nbrotary.org/event/tba-13/
END:VEVENT
BEGIN:VEVENT
DTSTART;TZID=America/New_York:20250502T080000
DTEND;TZID=America/New_York:20250502T170000
DTSTAMP:20260419T204108
CREATED:20250407T115418Z
LAST-MODIFIED:20250407T115418Z
UID:9457-1746172800-1746205200@nbrotary.org
SUMMARY:Classification Talk
DESCRIPTION:Lasse V. Syversen
URL:https://nbrotary.org/event/classification-talk-8/
END:VEVENT
BEGIN:VEVENT
DTSTART;TZID=America/New_York:20250425T080000
DTEND;TZID=America/New_York:20250425T170000
DTSTAMP:20260419T204108
CREATED:20250324T111900Z
LAST-MODIFIED:20250422T101333Z
UID:9426-1745568000-1745600400@nbrotary.org
SUMMARY:Success Client story (Zoom Only)
DESCRIPTION:Glen B. Fields
URL:https://nbrotary.org/event/club-assembly/
END:VEVENT
BEGIN:VEVENT
DTSTART;TZID=America/New_York:20250418T080000
DTEND;TZID=America/New_York:20250418T170000
DTSTAMP:20260419T204108
CREATED:20250324T111810Z
LAST-MODIFIED:20250402T102313Z
UID:9424-1744963200-1744995600@nbrotary.org
SUMMARY:Tax-Smart Charitable Giving
DESCRIPTION:Jake Matysek 
URL:https://nbrotary.org/event/no-meeting-2/
END:VEVENT
BEGIN:VEVENT
DTSTART;TZID=America/New_York:20250411T080000
DTEND;TZID=America/New_York:20250411T170000
DTSTAMP:20260419T204108
CREATED:20250324T111741Z
LAST-MODIFIED:20250324T111741Z
UID:9422-1744358400-1744390800@nbrotary.org
SUMMARY:Tba
DESCRIPTION:Michael Lukpetris 
URL:https://nbrotary.org/event/tba-12/
END:VEVENT
END:VCALENDAR